BEGIN:VCALENDAR
VERSION:2.0
PRODID:LFV Website-Kit
METHOD:PUBLISH
BEGIN:VEVENT
UID:lfv-a1f0a366-32ec-4fe3-9a8a-02e27ecdcea4
LOCATION:
SUMMARY:Stammzellentypisierung durch SHG-Leukämie Landshut
DESCRIPTION:Lass dich typisieren - Rette Leben\n\nTermin Link: https://www.ffw-lengdorf.de/termine/stammzellentypisierung-durch-shg-leukamie-landshut/
URL:https://www.ffw-lengdorf.de/termine/stammzellentypisierung-durch-shg-leukamie-landshut/
CLASS:PRIVATE
DTSTART;TZID=Europe/Berlin:20260509T100000
DTEND;TZID=Europe/Berlin:20260509T160000
DTSTAMP:20260420T030515Z
END:VEVENT
END:VCALENDAR