BEGIN:VCALENDAR
VERSION:2.0
PRODID:LFV Website-Kit
METHOD:PUBLISH
BEGIN:VEVENT
UID:lfv-d80a36b6-e223-4a0e-b93e-9f2b9e50e041
LOCATION:
SUMMARY:Stammzellentypisierung durch SHG-Leukämie Landshut
DESCRIPTION:Lass dich typisieren - Rette Leben\n\nTermin Link: https://www.ffw-lengdorf.de/termine/stammzellentypisierung-durch-shg-leukamie-landshut-1/
URL:https://www.ffw-lengdorf.de/termine/stammzellentypisierung-durch-shg-leukamie-landshut-1/
CLASS:PRIVATE
DTSTART;TZID=Europe/Berlin:20260510T100000
DTEND;TZID=Europe/Berlin:20260510T160000
DTSTAMP:20260420T040044Z
END:VEVENT
END:VCALENDAR